BEGIN:VCALENDAR
VERSION:2.0
PRODID:-//Michelle McKinney Hammond - ECPv6.15.13//NONSGML v1.0//EN
CALSCALE:GREGORIAN
METHOD:PUBLISH
X-WR-CALNAME:Michelle McKinney Hammond
X-ORIGINAL-URL:https://www.michellehammond.com
X-WR-CALDESC:Events for Michelle McKinney Hammond
REFRESH-INTERVAL;VALUE=DURATION:PT1H
X-Robots-Tag:noindex
X-PUBLISHED-TTL:PT1H
BEGIN:VTIMEZONE
TZID:UTC
BEGIN:STANDARD
TZOFFSETFROM:+0000
TZOFFSETTO:+0000
TZNAME:UTC
DTSTART:19690101T000000
END:STANDARD
END:VTIMEZONE
BEGIN:VEVENT
DTSTART;VALUE=DATE:20170722
DTEND;VALUE=DATE:20170725
DTSTAMP:20260420T073729
CREATED:20170414T123431Z
LAST-MODIFIED:20170414T130452Z
UID:2988-1500681600-1500940799@www.michellehammond.com
SUMMARY:Singles Conference
DESCRIPTION:
URL:https://www.michellehammond.com/event/singles-conference/
LOCATION:Jesus House-RCCG UK\, Brent Cross\, London\, United Kingdom
END:VEVENT
BEGIN:VEVENT
DTSTART;VALUE=DATE:20170710
DTEND;VALUE=DATE:20170716
DTSTAMP:20260420T073729
CREATED:20170414T125730Z
LAST-MODIFIED:20170414T125730Z
UID:2985-1499644800-1500163199@www.michellehammond.com
SUMMARY:3D Woman Cruise
DESCRIPTION:
URL:https://www.michellehammond.com/event/3d-woman-cruise/
END:VEVENT
BEGIN:VEVENT
DTSTART;TZID=UTC:20170708T170000
DTEND;TZID=UTC:20170708T210000
DTSTAMP:20260420T073729
CREATED:20170414T122241Z
LAST-MODIFIED:20170414T122241Z
UID:2983-1499533200-1499547600@www.michellehammond.com
SUMMARY:Singles Relationship Summit
DESCRIPTION:
URL:https://www.michellehammond.com/event/singles-relationship-summit/
LOCATION:RCCG House of Praise\, 6101 Moravia Park Drive\, Baltimore\, MD\, 21206\, United States
END:VEVENT
BEGIN:VEVENT
DTSTART;TZID=UTC:20170603T090000
DTEND;TZID=UTC:20170603T150000
DTSTAMP:20260420T073729
CREATED:20170414T125659Z
LAST-MODIFIED:20170414T223951Z
UID:2980-1496480400-1496502000@www.michellehammond.com
SUMMARY:Sister Power Gathering
DESCRIPTION:
URL:https://www.michellehammond.com/event/sister-power-gathering/
LOCATION:Lagos Tea House\, 6 Admiralty Way\, Lekki Phase 1\, Lagos\, Nigeria
END:VEVENT
BEGIN:VEVENT
DTSTART;TZID=UTC:20260420T073729
DTEND;TZID=UTC:20200112T120000
DTSTAMP:20260420T073729
CREATED:20200119T213233Z
LAST-MODIFIED:20200119T213237Z
UID:4086-0-1578830400@www.michellehammond.com
SUMMARY:Sunday Service- Nissi Life\, Ghana
DESCRIPTION:
URL:https://www.michellehammond.com/event/sunday-service-nissi-life-ghana/
END:VEVENT
END:VCALENDAR