BEGIN:VCALENDAR
VERSION:2.0
PRODID:-//Michelle McKinney Hammond - ECPv6.15.13//NONSGML v1.0//EN
CALSCALE:GREGORIAN
METHOD:PUBLISH
X-WR-CALNAME:Michelle McKinney Hammond
X-ORIGINAL-URL:https://www.michellehammond.com
X-WR-CALDESC:Events for Michelle McKinney Hammond
REFRESH-INTERVAL;VALUE=DURATION:PT1H
X-Robots-Tag:noindex
X-PUBLISHED-TTL:PT1H
BEGIN:VTIMEZONE
TZID:America/New_York
BEGIN:DAYLIGHT
TZOFFSETFROM:-0500
TZOFFSETTO:-0400
TZNAME:EDT
DTSTART:20190310T070000
END:DAYLIGHT
BEGIN:STANDARD
TZOFFSETFROM:-0400
TZOFFSETTO:-0500
TZNAME:EST
DTSTART:20191103T060000
END:STANDARD
BEGIN:DAYLIGHT
TZOFFSETFROM:-0500
TZOFFSETTO:-0400
TZNAME:EDT
DTSTART:20200308T070000
END:DAYLIGHT
BEGIN:STANDARD
TZOFFSETFROM:-0400
TZOFFSETTO:-0500
TZNAME:EST
DTSTART:20201101T060000
END:STANDARD
BEGIN:DAYLIGHT
TZOFFSETFROM:-0500
TZOFFSETTO:-0400
TZNAME:EDT
DTSTART:20210314T070000
END:DAYLIGHT
BEGIN:STANDARD
TZOFFSETFROM:-0400
TZOFFSETTO:-0500
TZNAME:EST
DTSTART:20211107T060000
END:STANDARD
END:VTIMEZONE
BEGIN:VTIMEZONE
TZID:UTC
BEGIN:STANDARD
TZOFFSETFROM:+0000
TZOFFSETTO:+0000
TZNAME:UTC
DTSTART:20160101T000000
END:STANDARD
END:VTIMEZONE
BEGIN:VTIMEZONE
TZID:Europe/London
BEGIN:DAYLIGHT
TZOFFSETFROM:+0000
TZOFFSETTO:+0100
TZNAME:BST
DTSTART:20170326T010000
END:DAYLIGHT
BEGIN:STANDARD
TZOFFSETFROM:+0100
TZOFFSETTO:+0000
TZNAME:GMT
DTSTART:20171029T010000
END:STANDARD
BEGIN:DAYLIGHT
TZOFFSETFROM:+0000
TZOFFSETTO:+0100
TZNAME:BST
DTSTART:20180325T010000
END:DAYLIGHT
BEGIN:STANDARD
TZOFFSETFROM:+0100
TZOFFSETTO:+0000
TZNAME:GMT
DTSTART:20181028T010000
END:STANDARD
BEGIN:DAYLIGHT
TZOFFSETFROM:+0000
TZOFFSETTO:+0100
TZNAME:BST
DTSTART:20190331T010000
END:DAYLIGHT
BEGIN:STANDARD
TZOFFSETFROM:+0100
TZOFFSETTO:+0000
TZNAME:GMT
DTSTART:20191027T010000
END:STANDARD
BEGIN:DAYLIGHT
TZOFFSETFROM:+0000
TZOFFSETTO:+0100
TZNAME:BST
DTSTART:20200329T010000
END:DAYLIGHT
BEGIN:STANDARD
TZOFFSETFROM:+0100
TZOFFSETTO:+0000
TZNAME:GMT
DTSTART:20201025T010000
END:STANDARD
BEGIN:DAYLIGHT
TZOFFSETFROM:+0000
TZOFFSETTO:+0100
TZNAME:BST
DTSTART:20210328T010000
END:DAYLIGHT
BEGIN:STANDARD
TZOFFSETFROM:+0100
TZOFFSETTO:+0000
TZNAME:GMT
DTSTART:20211031T010000
END:STANDARD
END:VTIMEZONE
BEGIN:VTIMEZONE
TZID:Europe/Paris
BEGIN:DAYLIGHT
TZOFFSETFROM:+0100
TZOFFSETTO:+0200
TZNAME:CEST
DTSTART:20190331T010000
END:DAYLIGHT
BEGIN:STANDARD
TZOFFSETFROM:+0200
TZOFFSETTO:+0100
TZNAME:CET
DTSTART:20191027T010000
END:STANDARD
BEGIN:DAYLIGHT
TZOFFSETFROM:+0100
TZOFFSETTO:+0200
TZNAME:CEST
DTSTART:20200329T010000
END:DAYLIGHT
BEGIN:STANDARD
TZOFFSETFROM:+0200
TZOFFSETTO:+0100
TZNAME:CET
DTSTART:20201025T010000
END:STANDARD
BEGIN:DAYLIGHT
TZOFFSETFROM:+0100
TZOFFSETTO:+0200
TZNAME:CEST
DTSTART:20210328T010000
END:DAYLIGHT
BEGIN:STANDARD
TZOFFSETFROM:+0200
TZOFFSETTO:+0100
TZNAME:CET
DTSTART:20211031T010000
END:STANDARD
END:VTIMEZONE
BEGIN:VTIMEZONE
TZID:America/Chicago
BEGIN:DAYLIGHT
TZOFFSETFROM:-0600
TZOFFSETTO:-0500
TZNAME:CDT
DTSTART:20180311T080000
END:DAYLIGHT
BEGIN:STANDARD
TZOFFSETFROM:-0500
TZOFFSETTO:-0600
TZNAME:CST
DTSTART:20181104T070000
END:STANDARD
BEGIN:DAYLIGHT
TZOFFSETFROM:-0600
TZOFFSETTO:-0500
TZNAME:CDT
DTSTART:20190310T080000
END:DAYLIGHT
BEGIN:STANDARD
TZOFFSETFROM:-0500
TZOFFSETTO:-0600
TZNAME:CST
DTSTART:20191103T070000
END:STANDARD
BEGIN:DAYLIGHT
TZOFFSETFROM:-0600
TZOFFSETTO:-0500
TZNAME:CDT
DTSTART:20200308T080000
END:DAYLIGHT
BEGIN:STANDARD
TZOFFSETFROM:-0500
TZOFFSETTO:-0600
TZNAME:CST
DTSTART:20201101T070000
END:STANDARD
END:VTIMEZONE
BEGIN:VTIMEZONE
TZID:Africa/Johannesburg
BEGIN:STANDARD
TZOFFSETFROM:+0200
TZOFFSETTO:+0200
TZNAME:SAST
DTSTART:20170101T000000
END:STANDARD
END:VTIMEZONE
BEGIN:VTIMEZONE
TZID:Africa/Lagos
BEGIN:STANDARD
TZOFFSETFROM:+0100
TZOFFSETTO:+0100
TZNAME:WAT
DTSTART:20170101T000000
END:STANDARD
END:VTIMEZONE
BEGIN:VEVENT
DTSTART;TZID=America/New_York:20200815T013000
DTEND;TZID=America/New_York:20200815T173000
DTSTAMP:20260420T034036
CREATED:20200511T235419Z
LAST-MODIFIED:20200913T230726Z
UID:4306-1597455000-1597512600@www.michellehammond.com
SUMMARY:D.I.V.A. CONFERENCE MASTERCLASS
DESCRIPTION:ONLINE MASTERCLASS \n1:30-5:30 PM EST/12:30-4:30 PM CST/10:30 AM-2:30 PM PST/6:30-10:30 UK TIME \nCLICK ON MMH ACADEMY TO REGISTER
URL:https://www.michellehammond.com/event/d-i-v-a-conference-masterclass-3/
LOCATION:ZOOM ONLINE
END:VEVENT
BEGIN:VEVENT
DTSTART;TZID=America/New_York:20200811T133000
DTEND;TZID=America/New_York:20200811T173000
DTSTAMP:20260420T034036
CREATED:20200511T235238Z
LAST-MODIFIED:20200913T230904Z
UID:4303-1597152600-1597167000@www.michellehammond.com
SUMMARY:D.I.V.A. CONFERENCE MASTERCLASS
DESCRIPTION:  \nONLINE MASTERCLASS \n1:30-5:30 PM EST/12:30-4:30 PM CST/10:30 AM-2:30 PM PST/6:30-10:30 UK TIME \nCLICK ON MMH ACADEMY TO REGISTER
URL:https://www.michellehammond.com/event/d-i-v-a-conference-masterclass-2/
LOCATION:ZOOM ONLINE
END:VEVENT
BEGIN:VEVENT
DTSTART;TZID=UTC:20200628T140000
DTEND;TZID=UTC:20200628T153000
DTSTAMP:20260420T034036
CREATED:20200512T000754Z
LAST-MODIFIED:20200512T001020Z
UID:4317-1593352800-1593358200@www.michellehammond.com
SUMMARY:MMH BOOK CLUB
DESCRIPTION:THE LAST TEN PERCENT \nCLICK ON MMH ACADEMY TO REGISTER! \n2PM IN YOUR TIME ZONE
URL:https://www.michellehammond.com/event/mmh-book-club-4/
LOCATION:ZOOM ONLINE
END:VEVENT
BEGIN:VEVENT
DTSTART;TZID=UTC:20200621T080000
DTEND;TZID=UTC:20200621T170000
DTSTAMP:20260420T034036
CREATED:20200512T000635Z
LAST-MODIFIED:20200512T000635Z
UID:4315-1592726400-1592758800@www.michellehammond.com
SUMMARY:MMH BOOK CLUB
DESCRIPTION:THE LAST TEN PERCENT \nCLICK ON MMH ACADEMY TO REGISTER! \n2PM IN YOUR TIME ZONE
URL:https://www.michellehammond.com/event/mmh-book-club-3/
LOCATION:ZOOM ONLINE
END:VEVENT
BEGIN:VEVENT
DTSTART;TZID=UTC:20200614T140000
DTEND;TZID=UTC:20200614T153000
DTSTAMP:20260420T034036
CREATED:20200512T000515Z
LAST-MODIFIED:20200512T001236Z
UID:4313-1592143200-1592148600@www.michellehammond.com
SUMMARY:MMH BOOK CLUB
DESCRIPTION:THE LAST TEN PERCENT \nCLICK ON MMH ACADEMY TO REGISTER! \n2PM IN YOUR TIME ZONE
URL:https://www.michellehammond.com/event/mmh-book-club-2/
LOCATION:ZOOM ONLINE
END:VEVENT
BEGIN:VEVENT
DTSTART;TZID=America/New_York:20200613T133000
DTEND;TZID=America/New_York:20200613T173000
DTSTAMP:20260420T034036
CREATED:20200511T234654Z
LAST-MODIFIED:20200512T000204Z
UID:4300-1592055000-1592069400@www.michellehammond.com
SUMMARY:D.I.V.A. CONFERENCE MASTERCLASS
DESCRIPTION:ONLINE MASTERCLASS \n1:30-5:30 PM EST/12:30-4:30 PM CST/10:30 AM-2:30 PM PST/6:30-10:30 UK TIME \nCLICK ON MMH ACADEMY TO REGISTER
URL:https://www.michellehammond.com/event/d-i-v-a-conference-masterclass/
LOCATION:ZOOM ONLINE
END:VEVENT
BEGIN:VEVENT
DTSTART;TZID=UTC:20200607T140000
DTEND;TZID=UTC:20200607T153000
DTSTAMP:20260420T034036
CREATED:20200512T000418Z
LAST-MODIFIED:20200512T001318Z
UID:4311-1591538400-1591543800@www.michellehammond.com
SUMMARY:MMH BOOK CLUB
DESCRIPTION:THE LAST TEN PERCENT \nCLICK ON MMH ACADEMY TO REGISTER! \n2PM IN YOUR TIME ZONE
URL:https://www.michellehammond.com/event/mmh-book-club/
LOCATION:ZOOM ONLINE
END:VEVENT
BEGIN:VEVENT
DTSTART;TZID=Europe/London:20200606T090000
DTEND;TZID=Europe/London:20200606T120000
DTSTAMP:20260420T034036
CREATED:20200511T234117Z
LAST-MODIFIED:20200520T181848Z
UID:4298-1591434000-1591444800@www.michellehammond.com
SUMMARY:UNCOMMON MIND MASTER CLASS
DESCRIPTION:HOSTS: TIM STOREY\, “THE CATALYST” LANRE OLUSOLA\, MICHELLE MCKINNEY HAMMOND \nCLICK THIS LINK TO REGISTER: bit.ly/uncommonseries \nTHIS IS AN INTERNATIONAL EVENT PLEASE NOTE YOUR TIME ZONE \n8 AM-11 AM GMT (GHANA) \n9 AM- 12 NOON GMT+1 (NIGERIA) \n10 AM-1PM SAST (SOUTH AFRICA) \n1 AM-4 AM PDT (LOS ANGELES) \n11 PM-2 AM CST (CHICAGO) \n12 AM-3 AM EST (NEW YORK) \n 
URL:https://www.michellehammond.com/event/uncommon-mind-master-class/
LOCATION:Zoom -Online
END:VEVENT
BEGIN:VEVENT
DTSTART;TZID=America/New_York:20200530T013000
DTEND;TZID=America/New_York:20200530T153000
DTSTAMP:20260420T034036
CREATED:20200511T233715Z
LAST-MODIFIED:20200512T002030Z
UID:4296-1590802200-1590852600@www.michellehammond.com
SUMMARY:MMH HANGOUT- CHAT ROOM
DESCRIPTION:ONLINE ZOOM CHAT \n“EMOTIONAL INTELLIGENCE” \nSPECIAL GUEST- THE CATALYST- LANRE OLUSOLA \n1:30 PM EST TIME/ 6:30 PM LONDON TIME \nFREE EVENT
URL:https://www.michellehammond.com/event/mmh-hangout-chat-room-2/
LOCATION:Zoom -Online
END:VEVENT
BEGIN:VEVENT
DTSTART;TZID=America/New_York:20200523T133000
DTEND;TZID=America/New_York:20200523T153000
DTSTAMP:20260420T034036
CREATED:20200511T233315Z
LAST-MODIFIED:20200520T183525Z
UID:4294-1590240600-1590247800@www.michellehammond.com
SUMMARY:MMH HANGOUT- CHAT ROOM
DESCRIPTION:ONLINE ZOOM CHAT \n“TURNING YOUR SETBACK INTO A COMEBACK” \nSPECIAL GUEST- TIM STOREY \nVISIT EVENTBRITE TO REGISTER OR CLICK THIS LINK: \nhttps://www.eventbrite.com/e/hangout-with-michelle-comeback-beyond-tickets-105172305196– \nPLEASE TAKE NOTE OF YOUR TIME ACCORDING TO YOUR TIME ZONE! \n1:30-3:30 PM EST (NEW YORK) \n12:30-2:30 PM CST (CHICAGO) \n10:30 AM-12:30PM PDT (LOS ANGELES) \n6:30 PM- 8:30 GMT+1(NIGERIA/LONDON) \n5:30 PM -7:30 GMT (GHANA) \n7:30 PM-9:30 SAST (SOUTH AFRICA) \nFREE EVENT
URL:https://www.michellehammond.com/event/mmh-hangout-chat-room/
LOCATION:Zoom -Online
END:VEVENT
BEGIN:VEVENT
DTSTART;TZID=America/New_York:20200516T133000
DTEND;TZID=America/New_York:20200516T153000
DTSTAMP:20260420T034036
CREATED:20200511T232451Z
LAST-MODIFIED:20200512T002210Z
UID:4288-1589635800-1589643000@www.michellehammond.com
SUMMARY:MMH HANGOUT- THE CHAT ROOM!
DESCRIPTION:ONLINE ZOOM MEETING- “GETTING UNSTUCK” \nGUEST- JOCELYN JONES \n1:30 PM EST/6:30 PM LONDON TIME \nREGISTRATION LINK:  \nhttps://www.eventbrite.com/x/getting-unstuck-tickets-104801058788
URL:https://www.michellehammond.com/event/mmh-hangout-the-chat-room/
LOCATION:Zoom -Online
END:VEVENT
BEGIN:VEVENT
DTSTART;TZID=UTC:20200419T100000
DTEND;TZID=UTC:20200419T120000
DTSTAMP:20260420T034036
CREATED:20200119T221709Z
LAST-MODIFIED:20200119T221709Z
UID:4112-1587290400-1587297600@www.michellehammond.com
SUMMARY:Sunday Service\, NIssi Life Cathedral\, Accra
DESCRIPTION:
URL:https://www.michellehammond.com/event/sunday-service-nissi-life-cathedral-accra-2/
LOCATION:Nissi Life Cathedral\, Accra\, Ghana
CATEGORIES:Speaking
END:VEVENT
BEGIN:VEVENT
DTSTART;TZID=Europe/London:20200329T080000
DTEND;TZID=Europe/London:20200329T120000
DTSTAMP:20260420T034036
CREATED:20200119T221009Z
LAST-MODIFIED:20200119T221009Z
UID:4107-1585468800-1585483200@www.michellehammond.com
SUMMARY:Sunday Service- Jesus House UK
DESCRIPTION:
URL:https://www.michellehammond.com/event/sunday-service-jesus-house-uk/
LOCATION:Jesus House-RCCG UK\, Brent Cross\, London\, United Kingdom
CATEGORIES:Speaking
END:VEVENT
BEGIN:VEVENT
DTSTART;TZID=Europe/London:20200326T190000
DTEND;TZID=Europe/London:20200328T170000
DTSTAMP:20260420T034036
CREATED:20200119T220844Z
LAST-MODIFIED:20200119T220844Z
UID:4105-1585249200-1585414800@www.michellehammond.com
SUMMARY:Women Conference- Jesus House UK
DESCRIPTION:
URL:https://www.michellehammond.com/event/women-conference-jesus-house-uk/
LOCATION:Jesus House-RCCG UK\, Brent Cross\, London\, United Kingdom
CATEGORIES:Speaking
END:VEVENT
BEGIN:VEVENT
DTSTART;TZID=Europe/London:20200320T190000
DTEND;TZID=Europe/London:20200320T210000
DTSTAMP:20260420T034036
CREATED:20200119T215801Z
LAST-MODIFIED:20200119T215801Z
UID:4098-1584730800-1584738000@www.michellehammond.com
SUMMARY:NLC Spring Family Conference
DESCRIPTION:
URL:https://www.michellehammond.com/event/nlc-spring-family-conference-2/
LOCATION:Nissi Life Church\, Unit 1\, 208 Fountayne Road\, Tottenham\, London\, N154QL\, United Kingdom
END:VEVENT
BEGIN:VEVENT
DTSTART;TZID=Europe/London:20200319T190000
DTEND;TZID=Europe/London:20200319T210000
DTSTAMP:20260420T034036
CREATED:20200119T215039Z
LAST-MODIFIED:20200119T215941Z
UID:4095-1584644400-1584651600@www.michellehammond.com
SUMMARY:NLC Spring Family Conference
DESCRIPTION:
URL:https://www.michellehammond.com/event/nlc-spring-family-conference/
LOCATION:Nissi Life Church\, Unit 1\, 208 Fountayne Road\, Tottenham\, London\, N154QL\, United Kingdom
CATEGORIES:Speaking
END:VEVENT
BEGIN:VEVENT
DTSTART;TZID=UTC:20200216T100000
DTEND;TZID=UTC:20200216T120000
DTSTAMP:20260420T034036
CREATED:20200119T221419Z
LAST-MODIFIED:20200119T221419Z
UID:4109-1581847200-1581854400@www.michellehammond.com
SUMMARY:Sunday Service- Nissi Life Cathedral\, Accra
DESCRIPTION:
URL:https://www.michellehammond.com/event/sunday-service-nissi-life-cathedral-accra/
LOCATION:Nissi Life Cathedral\, Accra\, Ghana
CATEGORIES:Speaking
END:VEVENT
BEGIN:VEVENT
DTSTART;TZID=UTC:20200201T080000
DTEND;TZID=UTC:20200201T130000
DTSTAMP:20260420T034036
CREATED:20200119T214333Z
LAST-MODIFIED:20200119T214333Z
UID:4092-1580544000-1580562000@www.michellehammond.com
SUMMARY:Women's "Fearless"  Conference- TPH
DESCRIPTION:
URL:https://www.michellehammond.com/event/womens-fearless-conference-tph/
LOCATION:This Present House\, End of\, Admiralty Way\, Freedom Way\, Lekki Phase 1\,\, Lagos\, Nigeria
END:VEVENT
BEGIN:VEVENT
DTSTART;TZID=Europe/Paris:20200126T050000
DTEND;TZID=Europe/Paris:20200126T210000
DTSTAMP:20260420T034036
CREATED:20200119T220635Z
LAST-MODIFIED:20200119T220635Z
UID:4102-1580014800-1580072400@www.michellehammond.com
SUMMARY:Manual Conference 2020
DESCRIPTION:
URL:https://www.michellehammond.com/event/manual-conference-2020/
CATEGORIES:Speaking
END:VEVENT
BEGIN:VEVENT
DTSTART;VALUE=DATE:20200125
DTEND;VALUE=DATE:20200126
DTSTAMP:20260420T034036
CREATED:20200119T090041Z
LAST-MODIFIED:20200119T220156Z
UID:4088-1579910400-1579996799@www.michellehammond.com
SUMMARY:Manual 2020 Conference
DESCRIPTION:
URL:https://www.michellehammond.com/event/manual-2020-conference/
LOCATION:Davids Christian Center\, Victory Dome\, Behind PHCN\, Fatgbems Bus stop Mile 2\,\, Lagos\, Amuwo Odofin Estate\, 100234\, Nigeria
CATEGORIES:Speaking
END:VEVENT
BEGIN:VEVENT
DTSTART;TZID=America/Chicago:20190909T080000
DTEND;TZID=America/Chicago:20190909T170000
DTSTAMP:20260420T034036
CREATED:20190812T005132Z
LAST-MODIFIED:20190812T005132Z
UID:4074-1568016000-1568048400@www.michellehammond.com
SUMMARY:Women's Conference
DESCRIPTION:
URL:https://www.michellehammond.com/event/womens-conference-6/
LOCATION:Living Word Christian Center\, 7600 Roosevelt Road\, Forest Park\, IL\, 60130\, United States
END:VEVENT
BEGIN:VEVENT
DTSTART;TZID=UTC:20190816T190000
DTEND;TZID=UTC:20190817T170000
DTSTAMP:20260420T034036
CREATED:20190412T214038Z
LAST-MODIFIED:20190412T214038Z
UID:3788-1565982000-1566061200@www.michellehammond.com
SUMMARY:Worthy Womens' Conference
DESCRIPTION:
URL:https://www.michellehammond.com/event/worthy-womens-conference/
LOCATION:Father’s House\, 30 Paterson Rd\, North End\,\, Port Elizabeth\, 6001\, South Africa
END:VEVENT
BEGIN:VEVENT
DTSTART;TZID=UTC:20190517T190000
DTEND;TZID=UTC:20190518T170000
DTSTAMP:20260420T034036
CREATED:20190412T213416Z
LAST-MODIFIED:20190412T213416Z
UID:3784-1558119600-1558198800@www.michellehammond.com
SUMMARY:Women's Conference
DESCRIPTION:
URL:https://www.michellehammond.com/event/womens-conference-5/
LOCATION:Bahamas Harvest Church\, Nassau\, Bahamas
END:VEVENT
BEGIN:VEVENT
DTSTART;TZID=UTC:20180915T090000
DTEND;TZID=UTC:20180915T160000
DTSTAMP:20260420T034036
CREATED:20180725T000734Z
LAST-MODIFIED:20180726T214546Z
UID:3516-1537002000-1537027200@www.michellehammond.com
SUMMARY:Sassy Single & Satisfied Summit
DESCRIPTION:Sassy\, Single\, and Satisfied: Secrets to Loving the Life You’re Living by Michelle McKinney Hammond.\nAn intensive hands on workshop.
URL:https://www.michellehammond.com/event/sassy-single-satisfied-summit/
LOCATION:Tomreick Hotel\, East Legon\, Accra\, Ghana
CATEGORIES:Speaking
ATTACH;FMTTYPE=image/jpeg:https://www.michellehammond.com/wp-content/uploads/2018/07/ssssummit_sq.jpeg
ORGANIZER;CN="Relevance Ministries":MAILTO:relevancelife@gmail.com
END:VEVENT
BEGIN:VEVENT
DTSTART;TZID=Africa/Johannesburg:20180831T180000
DTEND;TZID=Africa/Johannesburg:20180901T170000
DTSTAMP:20260420T034036
CREATED:20180613T165159Z
LAST-MODIFIED:20180613T165159Z
UID:3171-1535738400-1535821200@www.michellehammond.com
SUMMARY:RENEW Women's Conference
DESCRIPTION:
URL:https://www.michellehammond.com/event/renew-womens-conference/
LOCATION:Urban Edge Church\, 12 Eland Road\, Schoongezight\,\, Cape Town\, Durbanville\, 7550\, South Africa
END:VEVENT
BEGIN:VEVENT
DTSTART;TZID=UTC:20180824T180000
DTEND;TZID=UTC:20180825T170000
DTSTAMP:20260420T034036
CREATED:20180613T163205Z
LAST-MODIFIED:20180613T163205Z
UID:3167-1535133600-1535216400@www.michellehammond.com
SUMMARY:GO BEYOND Women's Conference
DESCRIPTION:Mark the dates off in your calendar from the 24 – 25 August \nThis is a 2 day conference that will inspire and equip you to live intentionally\, expand your dreams and motivate you to expect more in\, and through\, Jesus! \nThis is our time to get all the girls in our worlds together! Join us for a weekend of fun\, great food\, decadent treats\, pampering\, memorable moments and life-changing teaching\, as we draw inspiration and motivation from each other and hear from God! You will not leave the same!
URL:https://www.michellehammond.com/event/go-beyond-womens-conference/
LOCATION:View Church\, 3 Wood Dr\, Cape Town\, Tableview\, 7441\, South Africa
END:VEVENT
BEGIN:VEVENT
DTSTART;TZID=UTC:20180817T180000
DTEND;TZID=UTC:20180818T170000
DTSTAMP:20260420T034036
CREATED:20180613T162341Z
LAST-MODIFIED:20180613T162341Z
UID:3163-1534528800-1534611600@www.michellehammond.com
SUMMARY:Brave Conference
DESCRIPTION:
URL:https://www.michellehammond.com/event/brave-conference/
LOCATION:Edge Chruch- Edgemead\, 16 Anton Anreith Avenue\, 7441 Edgemead\, Western Cape\, South Africa
END:VEVENT
BEGIN:VEVENT
DTSTART;TZID=Europe/London:20180804T190000
DTEND;TZID=Europe/London:20180805T170000
DTSTAMP:20260420T034036
CREATED:20180613T161436Z
LAST-MODIFIED:20180613T161436Z
UID:3159-1533409200-1533488400@www.michellehammond.com
SUMMARY:Heroine in Heels Conference
DESCRIPTION:
URL:https://www.michellehammond.com/event/heroine-in-heels-conference/
LOCATION:Liberty Christian Ministries\, 1a Norbury Crescent\, London\, SW16 4JR\, United Kingdom
END:VEVENT
BEGIN:VEVENT
DTSTART;TZID=Africa/Lagos:20180721T090000
DTEND;TZID=Africa/Lagos:20180721T170000
DTSTAMP:20260420T034036
CREATED:20180613T160015Z
LAST-MODIFIED:20180613T160015Z
UID:3154-1532163600-1532192400@www.michellehammond.com
SUMMARY:ROTH- Return of the Helper Conference
DESCRIPTION:
URL:https://www.michellehammond.com/event/roth-return-of-the-helper-conference/
LOCATION:Pistis Hub\, 1A Ikorodu Road\, Onigbongbo\, Maryland\, Lagos\, Nigeria
END:VEVENT
BEGIN:VEVENT
DTSTART;TZID=UTC:20171023T190000
DTEND;TZID=UTC:20171024T190000
DTSTAMP:20260420T034036
CREATED:20170530T172703Z
LAST-MODIFIED:20170530T172703Z
UID:3112-1508785200-1508871600@www.michellehammond.com
SUMMARY:Women's Conference
DESCRIPTION:
URL:https://www.michellehammond.com/event/womens-conference-4/
LOCATION:Peaceful Rest Baptist Church\, 8200 St. Vincent Avenue\, Shreveport\, LA\, 71106\, United States
END:VEVENT
END:VCALENDAR